BEGIN:VCALENDAR
VERSION:2.0
PRODID:gruenerottweil.de
METHOD:PUBLISH
BEGIN:VTIMEZONE
TZID:Europe/Berlin
X-LIC-LOCATION:Europe/Berlin
BEGIN:DAYLIGHT
TZOFFSETFROM:+0100
TZOFFSETTO:+0200
TZNAME:CEST
DTSTART:19700329T020000
RRULE:FREQ=YEARLY;INTERVAL=1;BYDAY=-1SU;BYMONTH=3
END:DAYLIGHT
BEGIN:STANDARD
TZOFFSETFROM:+0200
TZOFFSETTO:+0100
TZNAME:CET
DTSTART:19701025T030000
RRULE:FREQ=YEARLY;INTERVAL=1;BYDAY=-1SU;BYMONTH=10
END:STANDARD
END:VTIMEZONE
BEGIN:VEVENT
UID:7421e13cc4eb2cce9935548312f8b435@gruenerottweil.de
URL;VALUE=URI:https://gruenerottweil.de/blog/termine/einladung-zur-kirche
 nfuehrung-st-maria-kirche-schramberg/
LOCATION:St. Maria Kiche, Schramberg, Am Brestenberg 4, 78713 Schramberg
SUMMARY:Einladung zur Kirchenführung: St. Maria Kirche Schramberg
DESCRIPTION;ALTREP="data:text/html,%0A%3Cp%3EDer%20Kreisvorstand%20der%20
 Gr%C3%BCnen%20aus%20Rottweil%20l%C3%A4dt%20herzlich%20zu%20einer%20besond
 eren%20Kirchenf%C3%BChrung%20in%20der%20%3Cstrong%3ESt.%20Maria%20Kirche%
 20in%20Schramberg%3C%2Fstrong%3E%20ein.%3C%2Fp%3E%0A%0A%0A%0A%3Cp%3E%3Cst
 rong%3EDatum%3A%3C%2Fstrong%3E%20Sonntag%2C%2022.%20Februar%202026%3Cbr%3
 E%3Cstrong%3EBeginn%3A%3C%2Fstrong%3E%2017%3A00%20Uhr%3Cbr%3E%3Cstrong%3E
 Ort%3A%3C%2Fstrong%3E%20St.%20Maria%20Kirche%2C%20Am%20Brestenberg%204%2C
 %2078713%20Schramberg%3C%2Fp%3E%0A%0A%0A%0A%3Cp%3EDie%20zwischen%201838%2
 0und%201844%20erbaute%20dreischiffige%20Kirche%20mit%20ihrem%20beeindruck
 enden%20Tonnengew%C3%B6lbe%20verbindet%20sp%C3%A4tklassizistische%20Archi
 tektur%20mit%20moderner%20sakraler%20Kunst.%20Arnhold%20Budick%20wird%20u
 ns%20die%20vielf%C3%A4ltige%20Kirchenkunst%20des%20Bildhauers%20Erich%20H
 auser%20n%C3%A4herbringen.%20Besonders%20sehenswert%20ist%20die%201994%20
 geschaffene%20Altarraumgestaltung%2C%20die%20eine%20eindrucksvolle%20Br%C
 3%BCcke%20zwischen%20historischer%20Bausubstanz%20und%20zeitgen%C3%B6ssis
 cher%20Kunst%20schl%C3%A4gt.%3C%2Fp%3E%0A%0A%0A%0A%3Cp%3EEin%20weiteres%2
 0Highlight%20ist%20das%20historische%20Denkmalinstrument%20%E2%80%93%20di
 e%20Walcker-Orgel.%20Die%20Organistin%20Alicia%20Schulthei%C3%9F%20wird%2
 0die%20F%C3%BChrung%20mit%20einem%20etwa%2015-min%C3%BCtigen%20Orgelvorsp
 iel%20musikalisch%20abrunden.%3C%2Fp%3E%0A%0A%0A%0A%3Cp%3EDie%20Teilnehme
 rzahl%20ist%20begrenzt.%3Cbr%3E%3Cstrong%3EAnmeldeschluss%3A%3C%2Fstrong%
 3E%2020.%20Februar%202026%3C%2Fp%3E%0A%0A%0A%0A%3Cp%3E%C3%9Cber%20folgend
 en%20Link%20kannst%20du%20dich%20anmelden%3A%3C%2Fp%3E%0A%0A%0A%0A%3Cp%3E
 %3Ca%20href%3D%22https%3A%2F%2Fcloud.gruenerottweil.de%2Findex.php%2Fapps
 %2Fforms%2Fs%2Fa6ZT5StSatRLa6CzT33QFzra%22%3Ehttps%3A%2F%2Fcloud.gruenero
 ttweil.de%2Findex.php%2Fapps%2Fforms%2Fs%2Fa6ZT5StSatRLa6CzT33QFzra%3C%2F
 a%3E%3C%2Fp%3E%0A%0A%0A%0A%3Cp%3E%3C%2Fp%3E%0A%0A%0A%0A%3Cp%3EWir%20freue
 n%20uns%20auf%20eine%20inspirierende%20F%C3%BChrung%20und%20einen%20beson
 deren%20kulturellen%20Abend%20in%20Schramberg.%3C%2Fp%3E%0A%0A%0A%0A%3Cp%
 3E%3C%2Fp%3E%0A":Der Kreisvorstand der Grünen aus Rottweil lädt herzlic
 h zu einer besonderen Kirchenführung in der St. Maria Kirche in Schrambe
 rg ein.\n\nDatum: Sonntag\, 22. Februar 2026Beginn: 17:00 UhrOrt: St. Mar
 ia Kirche\, Am Brestenberg 4\, 78713 Schramberg\n\nDie zwischen 1838 und 
 1844 erbaute dreischiffige Kirche mit ihrem beeindruckenden Tonnengewölb
 e verbindet spätklassizistische Architektur mit moderner sakraler Kunst.
  Arnhold Budick wird uns die vielfältige Kirchenkunst des Bildhauers Eri
 ch Hauser näherbringen. Besonders sehenswert ist die 1994 geschaffene Al
 tarraumgestaltung\, die eine eindrucksvolle Brücke zwischen historischer
  Bausubstanz und zeitgenössischer Kunst schlägt.\n\nEin weiteres Highli
 ght ist das historische Denkmalinstrument – die Walcker-Orgel. Die Orga
 nistin Alicia Schultheiß wird die Führung mit einem etwa 15-minütigen 
 Orgelvorspiel musikalisch abrunden.\n\nDie Teilnehmerzahl ist begrenzt.An
 meldeschluss: 20. Februar 2026\n\nÜber folgenden Link kannst du dich anm
 elden:\n\nhttps://cloud.gruenerottweil.de/index.php/apps/forms/s/a6ZT5StS
 atRLa6CzT33QFzra\n\nWir freuen uns auf eine inspirierende Führung und ei
 nen besonderen kulturellen Abend in Schramberg.
CLASS:PUBLIC
DTSTART;TZID=Europe/Berlin:20260222T170000
DTEND;TZID=Europe/Berlin:20260222T180000
DTSTAMP:20260420T095342
END:VEVENT
END:VCALENDAR