BEGIN:VCALENDAR
VERSION:2.0
PRODID:gruenerottweil.de
METHOD:PUBLISH
BEGIN:VTIMEZONE
TZID:Europe/Berlin
X-LIC-LOCATION:Europe/Berlin
BEGIN:DAYLIGHT
TZOFFSETFROM:+0100
TZOFFSETTO:+0200
TZNAME:CEST
DTSTART:19700329T020000
RRULE:FREQ=YEARLY;INTERVAL=1;BYDAY=-1SU;BYMONTH=3
END:DAYLIGHT
BEGIN:STANDARD
TZOFFSETFROM:+0200
TZOFFSETTO:+0100
TZNAME:CET
DTSTART:19701025T030000
RRULE:FREQ=YEARLY;INTERVAL=1;BYDAY=-1SU;BYMONTH=10
END:STANDARD
END:VTIMEZONE
BEGIN:VEVENT
UID:3f35d0bb52cc0338143f52bfecb3ee62@gruenerottweil.de
URL;VALUE=URI:https://gruenerottweil.de/blog/termine/der-kampf-um-die-gae
 ubahn/
LOCATION:Centralkino, Rottweil
SUMMARY:Der Kampf um die Gäubahn
DESCRIPTION;ALTREP="data:text/html,%0A%3Cp%3E...%20ist%20ein%20Kampf%20um
 %20die%20Bahn%3C%2Fp%3E%0A%0A%0A%0A%3Cp%3EFilm%20von%20Klaus%20Gietinger%
 2C%20Autor%20und%20Regisseur%3C%2Fp%3E%0A%0A%0A%0A%3Cp%3EMittwoch%2C%205.
 %20Februar%202025%26nbsp%3B%20-%26nbsp%3B%2019.00%20Uhr%3C%2Fp%3E%0A%0A%0
 A%0A%3Cp%3EVeranstalter%3A%3C%2Fp%3E%0A%0A%0A%0A%3Cp%3ECentralkino%20Rott
 weil%20und%20die%20ProG%C3%A4ubahn%20%E2%80%93%20Initiative%20Rottweil%20
 %E2%80%93%20wir%20wollen%20zum%20Hauptbahnhof%3C%2Fp%3E%0A%0A%0A%0A%3Cp%3
 EIm%20Anschluss%20wird%20J%C3%BCrgen%20Resch%2C%20Bundesgesch%C3%A4ftsf%C
 3%BChrer%20der%20Deutschen%20Umwelthilfe%20%28DUH%29%20zum%20Gespr%C3%A4c
 h%20zur%20Verf%C3%BCgung%20stehen.%3C%2Fp%3E%0A":... ist ein Kampf um die
  Bahn\n\nFilm von Klaus Gietinger\, Autor und Regisseur\n\nMittwoch\, 5. 
 Februar 2025  -  19.00 Uhr\n\nVeranstalter:\n\nCentralkino Rottweil und
  die ProGäubahn – Initiative Rottweil – wir wollen zum Hauptbahnhof\
 n\nIm Anschluss wird Jürgen Resch\, Bundesgeschäftsführer der Deutsche
 n Umwelthilfe (DUH) zum Gespräch zur Verfügung stehen.
CLASS:PUBLIC
DTSTART;TZID=Europe/Berlin:20250205T190000
DTEND;TZID=Europe/Berlin:20250205T203000
DTSTAMP:20260423T104057
END:VEVENT
END:VCALENDAR